BEGIN:VCALENDAR
VERSION:2.0
PRODID:-//The Society of the Cincinnati - ECPv5.2.1.1//NONSGML v1.0//EN
CALSCALE:GREGORIAN
METHOD:PUBLISH
X-WR-CALNAME:The Society of the Cincinnati
X-ORIGINAL-URL:https://www.societyofthecincinnati.org
X-WR-CALDESC:Events for The Society of the Cincinnati
BEGIN:VTIMEZONE
TZID:America/New_York
BEGIN:DAYLIGHT
TZOFFSETFROM:-0500
TZOFFSETTO:-0400
TZNAME:EDT
DTSTART:20230312T070000
END:DAYLIGHT
BEGIN:STANDARD
TZOFFSETFROM:-0400
TZOFFSETTO:-0500
TZNAME:EST
DTSTART:20231105T060000
END:STANDARD
END:VTIMEZONE
BEGIN:VEVENT
DTSTART;TZID=America/New_York:20230829T183000
DTEND;TZID=America/New_York:20230829T203000
DTSTAMP:20260421T100702
CREATED:20230503T170106Z
LAST-MODIFIED:20230503T170106Z
UID:4425-1693333800-1693341000@www.societyofthecincinnati.org
SUMMARY:Virtual Lecture - A View From Abroad: The Story of John and Abigail Adams in Europe
DESCRIPTION:From 1778 to 1788\, future president John Adams lived in Europe as an American diplomat. Joined by his wife\, Abigail\, in 1784\, the two shared rich encounters with famous heads of the European royal courts. Jeanne E. Abrams\, professor of history at the University of Denver\, shows that the Adams’ journey not only changed the course of their intellectual\, political and cultural development\, but served to strengthen their loyalty to America\, and highlights how the Adamses and their American contemporaries set about supplanting their British origins with a new American identity. \nThis virtual program accompanies our current exhibition\, Affairs of State: 118 Years of Diplomacy and Entertaining at Anderson House\, on view through December 31\, 2023. \nRegistration is requested. To attend the lecture\, please use the link below.\nRegister to Attend the Virtual Lecture \n  \nAbout the Speaker\nJeanne Abrams is a professor of history at the University Libraries and the Center for Judaic Studies at the University of Denver\, where she also serves as the director of the Rocky Mountain Jewish Historical Society and curator of the Beck Archives\, Special Collections. She is the author of several books\, including A View from Abroad: The Story of John Adams and Abigail Adams in Europe (New York University Press\, 2021); First Ladies of the Republic: Martha Washington\, Abigail Adams\, Dolley Madison\, and the Creation of an Iconic American Role (New York University Press\, 2018); and Revolutionary Medicine: The Founding Fathers and Mothers in Sickness and in Health (New York University Press\, 2013).
URL:https://www.societyofthecincinnati.org/event/virtual-lecture-a-view-from-abroad-the-story-of-john-and-abigail-adams-in-europe/
LOCATION:Anderson House\, 2118 Massachusetts Ave.\, NW\, Washington\, DC\, 20008\, United States
CATEGORIES:Lectures and Author’s Talks
ATTACH;FMTTYPE=image/png:https://www.societyofthecincinnati.org/wp-content/uploads/2023/05/Adams.png
END:VEVENT
END:VCALENDAR