BEGIN:VCALENDAR
VERSION:2.0
PRODID:-//The Society of the Cincinnati - ECPv5.2.1.1//NONSGML v1.0//EN
CALSCALE:GREGORIAN
METHOD:PUBLISH
X-WR-CALNAME:The Society of the Cincinnati
X-ORIGINAL-URL:https://www.societyofthecincinnati.org
X-WR-CALDESC:Events for The Society of the Cincinnati
BEGIN:VTIMEZONE
TZID:America/New_York
BEGIN:DAYLIGHT
TZOFFSETFROM:-0500
TZOFFSETTO:-0400
TZNAME:EDT
DTSTART:20240310T070000
END:DAYLIGHT
BEGIN:STANDARD
TZOFFSETFROM:-0400
TZOFFSETTO:-0500
TZNAME:EST
DTSTART:20241103T060000
END:STANDARD
END:VTIMEZONE
BEGIN:VEVENT
DTSTART;TZID=America/New_York:20240124T183000
DTEND;TZID=America/New_York:20240124T203000
DTSTAMP:20260421T033432
CREATED:20231219T171203Z
LAST-MODIFIED:20231221T151551Z
UID:4933-1706121000-1706128200@www.societyofthecincinnati.org
SUMMARY:Virtual Author’s Talk—  Dishonored Americans: The Political Death of Loyalist in Revolutionary America
DESCRIPTION:In the final words of the Declaration of Independence\, the signatories famously pledged their lives\, their fortunes and their "sacred Honor" to one another\, but what about those who made the opposite choice? By looking through the lens of honor culture of the period\, Timothy Compaeau\, assistant professor of history at Huron University College at the University of Western Ontario\, offers an innovative assessment of the experience of Americans who made the fateful decision to remain loyal to the British Crown during and after the Revolution. Loyalists\, as Dr.  Compeau explains\, suffered a "political death" at the hands of American Patriots. A term drawn from eighteenth-century sources\, “political death” encompassed the legal punishments and ritualized dishonors Patriots used to defeat Loyalist public figures and discredit their counter-revolutionary vision for America. By highlighting this dynamic\, Dr. Compeau makes a significant intervention in the long-standing debate over the social and cultural factors that motivated colonial Americans to choose sides in the conflict\, narrating in compelling detail the severe consequences for once-respected gentlemen who were stripped of their rights\, privileges and power in Revolutionary America. \nRegistration is requested. To attend the author’s talk virtually\, please use the link below. \n  \nRegister to Attend the Virtual Author's Talk  \n  \nAbout the Speaker\nTimothy Compaeau is an assistant professor of history at Huron University College in London\, Ontario\, Canada\, and received his Ph.D. from the University of Western Ontario. His research focuses on the British Empire in the eighteenth and early nineteenth century\, with a specific focus on honor culture and loyalism in the Age of Revolutions. He is the project director of “Loyalist Migrations\,” a partnership with the United Empire Loyalists Associations of Canada (UELAC)\, which allows researchers access to genealogical records of the UELAC\, as well as other archival sources\, to reconstruct the migrations of thousands of exiles\, refugees\, economic migrants\, settlers and soldiers from all walks of life who fled the American Revolution. He was also the co-editor of Seeing the Past with Computers: Experiments with Augmented Reality and Computer Vision for History (University of Michigan Press\, 2019).
URL:https://www.societyofthecincinnati.org/event/virtual-authors-talk-dishonored-americans-the-political-death-of-loyalist-in-revolutionary-america/
LOCATION:Virtual
CATEGORIES:Lectures and Author’s Talks
ATTACH;FMTTYPE=image/png:https://www.societyofthecincinnati.org/wp-content/uploads/2023/12/TCATF.png
END:VEVENT
END:VCALENDAR