BEGIN:VCALENDAR
VERSION:2.0
PRODID:-//The Society of the Cincinnati - ECPv5.2.1.1//NONSGML v1.0//EN
CALSCALE:GREGORIAN
METHOD:PUBLISH
X-WR-CALNAME:The Society of the Cincinnati
X-ORIGINAL-URL:https://www.societyofthecincinnati.org
X-WR-CALDESC:Events for The Society of the Cincinnati
BEGIN:VTIMEZONE
TZID:America/New_York
BEGIN:DAYLIGHT
TZOFFSETFROM:-0500
TZOFFSETTO:-0400
TZNAME:EDT
DTSTART:20220313T070000
END:DAYLIGHT
BEGIN:STANDARD
TZOFFSETFROM:-0400
TZOFFSETTO:-0500
TZNAME:EST
DTSTART:20221106T060000
END:STANDARD
END:VTIMEZONE
BEGIN:VEVENT
DTSTART;TZID=America/New_York:20220520T123000
DTEND;TZID=America/New_York:20220520T130000
DTSTAMP:20260420T044155
CREATED:20220505T155025Z
LAST-MODIFIED:20220505T172118Z
UID:3663-1653049800-1653051600@www.societyofthecincinnati.org
SUMMARY:Lunch Bite - A Portrait of Capt. Francis Lord Rawdon
DESCRIPTION:Join Museum Collections and Operations Manager Paul Newman as he discusses a portrait of Capt. Francis Lord Rawdon (1754-1826) by Hugh Douglas Hamilton (1740-1808)\, ca 1777. Lord Rawdon\, an Irish-born officer in the British army\, served under Generals Sir Henry Clinton and Charles Lord Cornwallis during the Revolutionary War. After taking charge of his company following the wounding of his superior officer at the Battle of Bunker Hill\, he experienced almost every major battle through the end of the war. This Lunch Bite will focus on Captain Rawdon's remarkable service during the Revolutionary War and this surviving wartime portrait of him. The presentation will last approximately 30 minutes. \nRegistration is requested. All programs are held in person. Virtual options are available.\nAll visitors to Anderson House age 5 and older are required to show proof of full vaccination against COVID-19\, and all visitors age 2 and older are required to wear a mask while attending a historical program or visiting the museum or library. Read our full COVID safety guidelines here. \n  \nRegister to Attend the Lunch Bite at Anderson House\n  \nRegister to Attend the Lunch Bite virtually\n 
URL:https://www.societyofthecincinnati.org/event/lunch-bite-a-portrait-of-capt-francis-lord-rawdon/
LOCATION:Anderson House\, 2118 Massachusetts Ave.\, NW\, Washington\, DC\, 20008\, United States
CATEGORIES:Lunch Bites
ATTACH;FMTTYPE=image/jpeg:https://www.societyofthecincinnati.org/wp-content/uploads/2022/05/Rawdon-LB.jpeg
END:VEVENT
END:VCALENDAR