BEGIN:VCALENDAR
VERSION:2.0
PRODID:-//The Society of the Cincinnati - ECPv5.2.1.1//NONSGML v1.0//EN
CALSCALE:GREGORIAN
METHOD:PUBLISH
X-WR-CALNAME:The Society of the Cincinnati
X-ORIGINAL-URL:https://www.societyofthecincinnati.org
X-WR-CALDESC:Events for The Society of the Cincinnati
BEGIN:VTIMEZONE
TZID:America/New_York
BEGIN:DAYLIGHT
TZOFFSETFROM:-0500
TZOFFSETTO:-0400
TZNAME:EDT
DTSTART:20230312T070000
END:DAYLIGHT
BEGIN:STANDARD
TZOFFSETFROM:-0400
TZOFFSETTO:-0500
TZNAME:EST
DTSTART:20231105T060000
END:STANDARD
END:VTIMEZONE
BEGIN:VEVENT
DTSTART;TZID=America/New_York:20230413T183000
DTEND;TZID=America/New_York:20230413T203000
DTSTAMP:20260421T180700
CREATED:20230104T173045Z
LAST-MODIFIED:20230104T173045Z
UID:4196-1681410600-1681417800@www.societyofthecincinnati.org
SUMMARY:Lecture - The Surveyor's Eyes: Mapping Empire in the Era of the American Revolution
DESCRIPTION:In the second half of the eighteenth century\, British surveyors came to North America and the West Indies in unprecedented numbers. Their images of coastlines\, forts and frontiers helped win the French and Indian War and pictured a triumphant British Atlantic world. The American Revolution shattered this vision of peace\, commerce and settlement. Once tasked to promote an expansive American empire\, wartime mapmakers applied their knowledge to make war on American colonists. Max Edelson\, professor of history at the University of Virginia\, describes the importance of survey knowledge in maps from empire to independence. \nRegistration is requested. To attend the lecture in-person at Anderson House\, or to watch virtually\, please use the appropriate form below.\n  \nAbout the Speaker\nMax Edelson is a professor of history at the University of Virginia. His studies surround the history of British America and the Atlantic World\, and his research examines space\, place and culture in colonial North America and the Caribbean. He is the author of two books\, Plantation Enterprise in Colonial South Carolina (Harvard University Press\, 2006) and The New Map of Empire: How Britain Imagined America Before Independence (Harvard University Press\, 2007). He has also co-developed a dynamic visualization tool for historic map collections\, MapScholar\, with a Digital Implementation Grant in 2012. Professor Edelson also co-directs the University of Virginia’s Early American Seminar\, an ongoing research seminar jointly sponsored by the Corcoran Department of History\, the Jefferson Scholars Foundation and the International Center for Jefferson Studies at Monticello. \n  \nClick Here to Attend the Lecture at Anderson House\n  \nClick Here to Attend the Lecture Virtually\n 
URL:https://www.societyofthecincinnati.org/event/lecture-the-surveyors-eyes-mapping-empire-in-the-era-of-the-american-revolution/
LOCATION:Anderson House\, 2118 Massachusetts Ave.\, NW\, Washington\, DC\, 20008\, United States
CATEGORIES:Lectures and Author’s Talks
ATTACH;FMTTYPE=image/jpeg:https://www.societyofthecincinnati.org/wp-content/uploads/2023/01/Lecture-Through-Surveyors-Eyes.jpg
END:VEVENT
END:VCALENDAR