BEGIN:VCALENDAR
VERSION:2.0
PRODID:-//The Society of the Cincinnati - ECPv5.2.1.1//NONSGML v1.0//EN
CALSCALE:GREGORIAN
METHOD:PUBLISH
X-WR-CALNAME:The Society of the Cincinnati
X-ORIGINAL-URL:https://www.societyofthecincinnati.org
X-WR-CALDESC:Events for The Society of the Cincinnati
BEGIN:VTIMEZONE
TZID:America/New_York
BEGIN:DAYLIGHT
TZOFFSETFROM:-0500
TZOFFSETTO:-0400
TZNAME:EDT
DTSTART:20230312T070000
END:DAYLIGHT
BEGIN:STANDARD
TZOFFSETFROM:-0400
TZOFFSETTO:-0500
TZNAME:EST
DTSTART:20231105T060000
END:STANDARD
END:VTIMEZONE
BEGIN:VEVENT
DTSTART;TZID=America/New_York:20230124T183000
DTEND;TZID=America/New_York:20230124T203000
DTSTAMP:20260421T230145
CREATED:20230104T170827Z
LAST-MODIFIED:20230104T170827Z
UID:4161-1674585000-1674592200@www.societyofthecincinnati.org
SUMMARY:Lecture - The Real Miracle at Valley Forge: George Washington’s Political Mastery
DESCRIPTION:Throughout the punishing winter at Valley Forge\, Gen. George Washington preserved the Continental Army while also forging it into an effective fighting force. This achievement not only reflected military leadership but also deft political action that allowed the commander-in-chief both to repel an attempt to supersede him and to command the congressional and national support he needed to remake the army. Historian David O. Stewart examines Washington’s masterful navigation of politics and leadership during the daunting 1777-1778 winter encampment. \nRegistration is requested. To attend the lecture in-person at Anderson House\, or to watch virtually\, please use the appropriate form below.\n\nAbout the Speaker\nDavid O. Stewart is the author of ten books of American history and historical fiction. His most recent work\, George Washington: The Political Rise of America’s Founding Father (Dutton\, 2021)\, has won several awards\, including best book of 2021 from the New Jersey Society of the Cincinnati and the 2022 Colonial Dames of America book award\, and was a finalist for Mount Vernon’s highly regarded George Washington Book Prize. Mr. Stewart has also written for the Staten Island Advance\, monthly Supreme Court columns for the American Bar Association Journal\, the Washington Post and its Sunday Magazine\, and the New York Times\, in addition to providing commentary for major networks such as CNN\, C-SPAN\, Bloomberg News and MSNBC. \n  \nClick Here to Attend the Lecture at Anderson House\n  \nClick Here to Attend the Lecture Virtually
URL:https://www.societyofthecincinnati.org/event/lecture-the-real-miracle-at-valley-forge-george-washingtons-political-mastery/
LOCATION:Anderson House\, 2118 Massachusetts Ave.\, NW\, Washington\, DC\, 20008\, United States
CATEGORIES:Lectures and Author’s Talks
ATTACH;FMTTYPE=image/png:https://www.societyofthecincinnati.org/wp-content/uploads/2023/01/Screenshot-2022-12-19-at-1.43.45-PM.png
END:VEVENT
END:VCALENDAR