BEGIN:VCALENDAR
VERSION:2.0
PRODID:-//The Society of the Cincinnati - ECPv5.2.1.1//NONSGML v1.0//EN
CALSCALE:GREGORIAN
METHOD:PUBLISH
X-WR-CALNAME:The Society of the Cincinnati
X-ORIGINAL-URL:https://www.societyofthecincinnati.org
X-WR-CALDESC:Events for The Society of the Cincinnati
BEGIN:VTIMEZONE
TZID:America/New_York
BEGIN:DAYLIGHT
TZOFFSETFROM:-0500
TZOFFSETTO:-0400
TZNAME:EDT
DTSTART:20230312T070000
END:DAYLIGHT
BEGIN:STANDARD
TZOFFSETFROM:-0400
TZOFFSETTO:-0500
TZNAME:EST
DTSTART:20231105T060000
END:STANDARD
END:VTIMEZONE
BEGIN:VEVENT
DTSTART;TZID=America/New_York:20230809T183000
DTEND;TZID=America/New_York:20230809T203000
DTSTAMP:20260421T113439
CREATED:20230503T165726Z
LAST-MODIFIED:20230809T173135Z
UID:4416-1691605800-1691613000@www.societyofthecincinnati.org
SUMMARY:Lecture - The Fighting Sullivans of World War II
DESCRIPTION:On November 13\, 1942\, the American cruiser USS Juneau was torpedoed and sunk by a Japanese submarine during the Battle of Guadalcanal. Serving on the cruiser were George\, Francis\, Joseph\, Madison and Albert Sullivan\, five brothers from Waterloo\, Iowa\, who were all tragically killed in the attack. In 1944\, their parents\, Thomas and Alleta Sullivan\, were presented with five Purple Heart medals by Rear Admiral Clark H. Woodward in the Key Room at Anderson House\, where several U.S. Navy departments were headquartered during World War II. Kelly Sullivan\, the granddaughter of Albert Sullivan\, discusses the service and legacy of her grandfather and his four brothers. \nRegistration is requested. Please use the link below to attend the lecture in-person at Anderson House.\nRegister to Attend the Lecture In-Person at Anderson House \nRegister to Attend the Lecture Virtually \n  \nAbout the Speaker\nKelly Sullivan is the granddaughter of Albert Sullivan\, one of the five Sullivan brothers who were killed in World War II. A third-grade teacher in the Cedars Falls School District in Iowa\, she is also a lifetime member of the Society of Sponsors of the United States Navy\, serving as the sponsor of USS The Sullivans (DDG 68)\, which she commissioned in 1997 in Staten Island\, New York. In 1995\, she christened the Aegis guided missile destroyer in Bath\, Maine\, and participated in the fiftieth anniversary of V-J Day at Pearl Harbor in 1995 as a representative for Gold Star Mothers of America. She currently serves as a board member of the USS The Sullivans foundation\, and speaks to various organizations about her family's history\, her role as a Navy Sponsor\, and the importance of recognizing and respecting the sacrifices of our veterans. \n 
URL:https://www.societyofthecincinnati.org/event/lecture-the-fighting-sullivans-of-world-war-ii/
LOCATION:Anderson House\, 2118 Massachusetts Ave.\, NW\, Washington\, DC\, 20008\, United States
CATEGORIES:Lectures and Author’s Talks
ATTACH;FMTTYPE=image/png:https://www.societyofthecincinnati.org/wp-content/uploads/2023/05/Picture5-2048x1615-1.png
END:VEVENT
END:VCALENDAR