BEGIN:VCALENDAR
VERSION:2.0
PRODID:-//The Society of the Cincinnati - ECPv5.2.1.1//NONSGML v1.0//EN
CALSCALE:GREGORIAN
METHOD:PUBLISH
X-WR-CALNAME:The Society of the Cincinnati
X-ORIGINAL-URL:https://www.societyofthecincinnati.org
X-WR-CALDESC:Events for The Society of the Cincinnati
BEGIN:VTIMEZONE
TZID:America/New_York
BEGIN:DAYLIGHT
TZOFFSETFROM:-0500
TZOFFSETTO:-0400
TZNAME:EDT
DTSTART:20240310T070000
END:DAYLIGHT
BEGIN:STANDARD
TZOFFSETFROM:-0400
TZOFFSETTO:-0500
TZNAME:EST
DTSTART:20241103T060000
END:STANDARD
END:VTIMEZONE
BEGIN:VEVENT
DTSTART;TZID=America/New_York:20240228T183000
DTEND;TZID=America/New_York:20240228T203000
DTSTAMP:20260421T014206
CREATED:20231221T150759Z
LAST-MODIFIED:20231221T150823Z
UID:4942-1709145000-1709152200@www.societyofthecincinnati.org
SUMMARY:Lecture—The American Revolution in the Old Northwest
DESCRIPTION:The American Revolution in the West is often neglected from the overall history of the conflict\, though it had a significant impact on how it was conducted. Larry Nelson\, assistant professor of history at Bowling Green State University\, discusses this important component of the war by examining American ambitions in the Old Northwest\, the vast uncharted region north and west of the Ohio River; the political goals of the Continental Congress within that region; and the role of Virginia militia leader George Rogers Clark in bringing those aims to fruition. \nRegistration is requested. To attend the lecture in-person at Anderson House\, or to watch virtually\, please use the appropriate link below. \nRegister to Attend the Lecture at Anderson House \nRegister to Attend the Lecture Virtually \nAbout the Speaker\nLarry Nelson holds a Ph.D. in American history from Bowling Green State University. He worked for the Ohio Historical Society (now the Ohio History Connection) for nearly twenty-five years as the site director at Fort Meigs State Memorial. Following his retirement\, he joined the history faculty at Bowling Green State University as an assistant professor. Throughout his career with the Ohio Historical Society\, he participated in numerous archaeological investigations of late-eighteenth- and early-nineteenth-century military sites\, including Fort Laurens and Crawford’s Defeat. He has also contributed to or appeared on many PBS and History Channel productions\, including the Emmy-nominated History Channel presentation First Invasion – The War of 1812. An authority on the Great Lakes and Ohio Valley frontiers\, his books include A Man of Distinction among Them: Alexander McKee and the Ohio Frontier (Kent State University Press\, 1999); A History of Jonathan Alder: His Captivity and Life with the Indians (University of Akron Press\, 2002); and The Sixty Years’ War for the Great Lakes\, 1754-1814 (Michigan State University Press\, 2010) with fellow historian David C. Skaggs. His most recent book\, published by the Michigan State University Press\, is entitled\, To Your Posts!: A Documentary History of Fort Meigs.
URL:https://www.societyofthecincinnati.org/event/lecture-the-american-revolution-in-the-old-northwest/
LOCATION:Anderson House\, 2118 Massachusetts Ave.\, NW\, Washington\, DC\, 20008\, United States
CATEGORIES:Lectures and Author’s Talks
ATTACH;FMTTYPE=image/jpeg:https://www.societyofthecincinnati.org/wp-content/uploads/2023/12/Lecture-AmRev-in-the-Old-Northwest.b-1.jpg
END:VEVENT
END:VCALENDAR