BEGIN:VCALENDAR
VERSION:2.0
PRODID:-//The Society of the Cincinnati - ECPv5.2.1.1//NONSGML v1.0//EN
CALSCALE:GREGORIAN
METHOD:PUBLISH
X-WR-CALNAME:The Society of the Cincinnati
X-ORIGINAL-URL:https://www.societyofthecincinnati.org
X-WR-CALDESC:Events for The Society of the Cincinnati
BEGIN:VTIMEZONE
TZID:America/New_York
BEGIN:DAYLIGHT
TZOFFSETFROM:-0500
TZOFFSETTO:-0400
TZNAME:EDT
DTSTART:20230312T070000
END:DAYLIGHT
BEGIN:STANDARD
TZOFFSETFROM:-0400
TZOFFSETTO:-0500
TZNAME:EST
DTSTART:20231105T060000
END:STANDARD
END:VTIMEZONE
BEGIN:VEVENT
DTSTART;TZID=America/New_York:20230216T183000
DTEND;TZID=America/New_York:20230216T203000
DTSTAMP:20260421T214115
CREATED:20230104T171556Z
LAST-MODIFIED:20230104T173414Z
UID:4175-1676572200-1676579400@www.societyofthecincinnati.org
SUMMARY:Lecture - In League with Liberty: The Persistence of Patriots of Color and the Formation of the First Rhode Island Regiment of the Continental Army
DESCRIPTION:As states struggled to fill enlistment quotas in late 1777\, the Rhode Island General Assembly\, drawing from a proposal from Rhode Island general James Varnum\, voted to allow the enlistments of indentured servants\, indigenous peoples and former slaves. With that\, the First Rhode Island Regiment\, known as “the black regiment\,” was formed. Although met with controversy\, the regiment fought with distinction in various battles during the Revolutionary War. To mark the anniversary of an important vote on February 14\, 1778\, in the Rhode Island general assembly that allowed African Americans and Indigenous peoples to enlist for service\, historian Robert A. Geake discusses the important story of the "black regiment\,” from its formation\, heroism and misfortune\, to the legacy left by those who enlisted to earn their freedom. \nRegistration is requested. To attend the lecture in-person at Anderson House\, or to watch virtually\, please use the appropriate form below.\n  \nAbout the Speaker\nRobert A. Geake is a public historian and the author of fourteen books on Rhode Island and New England history\, including From Slaves to Soldiers: The First Rhode Island Regiment in the American Revolution (Westholme Publishing\, 2016). His other books include A History of the Narragansett Tribe: Keepers of the Bay\, Native and New Americans (The History Press\, 2011) and New England’s Citizen Soldiers: Mariners and Minutemen (The History Press\, 2019). Mr. Geake currently serves as the president of The Cocumscussoc Association\, an organization that maintains Smith’s Castle historic house museum in North Kingstown\, R.I.\, and also serves on the advisory board of the Rhode Island Slave History Medallion project. \n  \nClick Here to Attend the Lecture at Anderson House\n  \nClick Here to Register for the Lecture Virtually\n 
URL:https://www.societyofthecincinnati.org/event/lecture-in-league-with-liberty-the-persistence-of-patriots-of-color-and-the-formation-of-the-first-rhode-island-regiment-of-the-continental-army/
LOCATION:Anderson House\, 2118 Massachusetts Ave.\, NW\, Washington\, DC\, 20008\, United States
CATEGORIES:Lectures and Author’s Talks
ATTACH;FMTTYPE=image/png:https://www.societyofthecincinnati.org/wp-content/uploads/2023/01/Lecture-From-Slaves-to-Soldiers.png
END:VEVENT
END:VCALENDAR