BEGIN:VCALENDAR
VERSION:2.0
PRODID:-//The Society of the Cincinnati - ECPv5.2.1.1//NONSGML v1.0//EN
CALSCALE:GREGORIAN
METHOD:PUBLISH
X-WR-CALNAME:The Society of the Cincinnati
X-ORIGINAL-URL:https://www.societyofthecincinnati.org
X-WR-CALDESC:Events for The Society of the Cincinnati
BEGIN:VTIMEZONE
TZID:America/New_York
BEGIN:DAYLIGHT
TZOFFSETFROM:-0500
TZOFFSETTO:-0400
TZNAME:EDT
DTSTART:20250309T070000
END:DAYLIGHT
BEGIN:STANDARD
TZOFFSETFROM:-0400
TZOFFSETTO:-0500
TZNAME:EST
DTSTART:20251102T060000
END:STANDARD
END:VTIMEZONE
BEGIN:VEVENT
DTSTART;TZID=America/New_York:20250205T183000
DTEND;TZID=America/New_York:20250205T193000
DTSTAMP:20260420T044309
CREATED:20250109T190226Z
LAST-MODIFIED:20250109T190226Z
UID:5767-1738780200-1738783800@www.societyofthecincinnati.org
SUMMARY:Lecture—Benjamin Franklin\, Francisco Saavedra de Sangronis and Spain’s Grand Strategy in the American Revolutionary War
DESCRIPTION:Historian Thomas E. Chávez focuses our attention on Spanish participation throughout the American Revolution through a discussion of Spain’s grand strategy during the war; the contributions to the Spanish war effort of Francisco Saavedra de Sangronis\, a Spanish official working for Spain’s Ministry of the Indies; to the Spanish war effort and the interactions of Benjamin Franklin with key Spanish officials—from his early correspondence with the prince of Spain through his election as an honorary member of the Spanish Royal Academy of History. Drawing from his decades of archival research\, along with his most recent efforts in uncovering various forms of correspondence and other documents within the Spanish archives pertaining to Benjamin Franklin’s cooperation with Spanish officials\, Dr. Chávez demonstrates the significance of Spain’s contributions and the American-Spanish diplomacy that helped achieve American independence. \nRegistration is requested. To attend the lecture in-person at Anderson House\, or to watch virtually\, please use the appropriate link below. \nRegister to Attend the Lecture at Anderson House \nRegister to Attend the Lecture Virtually \nAbout the Speaker\nThomas E. Chávez is an independent researcher\, consultant and historian\, who earned his Ph.D. from the University of New Mexico. In 2004\, he retired as the executive director of the National Hispanic Culture Center in Albuquerque. Before that\, he was director of the Palace of the Governors in Santa Fe\, New Mexico\, for twenty-one years. He has published numerous book reviews and articles\, as well as nine books\, including Spain and the Independence of the United States: An Intrinsic Gift (University of New Mexico Press\, 2004) and The Diplomacy of Independence: Benjamin Franklin Documents in the Archives of Spain (The American Philosophical Society Press\, 2024)\, and wrote a monthly Sunday article for The Santa Fe New Mexican. Recently\, he assisted the Museum of Spanish Colonial Art begin an endowment and consulted for the University of New Mexico Press and the New Mexico Women's Forum.
URL:https://www.societyofthecincinnati.org/event/lecture-benjamin-franklin-francisco-saavedra-de-sangronis-and-spains-grand-strategy-in-the-american-revolutionary-war/
LOCATION:Anderson House\, 2118 Massachusetts Ave.\, NW\, Washington\, DC\, 20008\, United States
CATEGORIES:Lectures and Author’s Talks
ATTACH;FMTTYPE=image/jpeg:https://www.societyofthecincinnati.org/wp-content/uploads/2025/01/Chavez-zoom.jpg
END:VEVENT
END:VCALENDAR