BEGIN:VCALENDAR
VERSION:2.0
PRODID:-//The Society of the Cincinnati - ECPv5.2.1.1//NONSGML v1.0//EN
CALSCALE:GREGORIAN
METHOD:PUBLISH
X-WR-CALNAME:The Society of the Cincinnati
X-ORIGINAL-URL:https://www.societyofthecincinnati.org
X-WR-CALDESC:Events for The Society of the Cincinnati
BEGIN:VTIMEZONE
TZID:America/New_York
BEGIN:DAYLIGHT
TZOFFSETFROM:-0500
TZOFFSETTO:-0400
TZNAME:EDT
DTSTART:20240310T070000
END:DAYLIGHT
BEGIN:STANDARD
TZOFFSETFROM:-0400
TZOFFSETTO:-0500
TZNAME:EST
DTSTART:20241103T060000
END:STANDARD
END:VTIMEZONE
BEGIN:VEVENT
DTSTART;TZID=America/New_York:20240516T183000
DTEND;TZID=America/New_York:20240516T193000
DTSTAMP:20260420T200824
CREATED:20240424T135356Z
LAST-MODIFIED:20240424T142741Z
UID:5187-1715884200-1715887800@www.societyofthecincinnati.org
SUMMARY:Lecture—A Hero of Two Worlds: The Marquis de Lafayette in the Age of Revolution
DESCRIPTION:Few in history can match the revolutionary career of the marquis de Lafayette. For over fifty incredible years at the heart of the Age of Revolution\, he fought courageously on both sides of the Atlantic as a soldier\, statesman\, idealist\, philanthropist and abolitionist. As a teenager\, Lafayette ran away from France to join the American Revolution. Returning home a national hero\, he helped launch the French Revolution\, eventually spending five years locked in an Austrian prison. After his release\, Lafayette sparred with Napoleon\, joined an underground conspiracy to overthrow King Louis XVIII\, and became an international symbol of liberty. Historian and best-selling author Mike Duncan discusses the remarkable life of the marquis de Lafayette and the thrilling story of his lifelong quest to defend the principles of liberty and equality. \nRegistration is requested. To attend the lecture in-person at Anderson House\, or to watch virtually\, please use the appropriate link below. \nRegister to Attend the Lecture at Anderson House \nRegister to Attend the Lecture Virtually \nAbout the Speaker\nMike Duncan is one of the foremost history podcasters in the world. His award-winning series The History of Rome chronologically narrated the history of the Roman Empire over 189 weekly episodes. Running from 2007-2012\, The History of Rome podcast has generated more than sixty-five million downloads and remains one of the most popular history podcasts online\, earning it an iTunes Best of 2015 award. From this podcast\, Duncan wrote the New York Times-bestselling book The Storm Before the Storm: The Beginning of the End of the Roman Republic (Public Affairs Press\, 2017). Mr. Duncan continued his success with his ongoing series Revolutions\, a podcast that has explored the English\, American\, French and Haitian revolutions. Since debuting in September 2013\, Revolutions has generated more than eighteen million downloads. Owing to the worldwide popularity of his podcasts\, Duncan has led listeners on popular guided tours of Italy\, England and France to visit historic sites from ancient Rome to the French Revolution. Mr. Duncan also collaborates with illustrator Jason Novak on informative cartoons that humorously explain the historical context for current events. Their work has been featured in The New Yorker\, The Paris Review\, The Awl and The Morning News.
URL:https://www.societyofthecincinnati.org/event/lecture-a-hero-of-two-worlds-the-marquis-de-lafayette-in-the-age-of-revolution/
LOCATION:Anderson House\, 2118 Massachusetts Ave.\, NW\, Washington\, DC\, 20008\, United States
CATEGORIES:Lectures and Author’s Talks
ATTACH;FMTTYPE=image/jpeg:https://www.societyofthecincinnati.org/wp-content/uploads/2024/04/Lecture-Hero-of-Two-Worlds.jpg
END:VEVENT
END:VCALENDAR