BEGIN:VCALENDAR
VERSION:2.0
PRODID:-//The Society of the Cincinnati - ECPv5.2.1.1//NONSGML v1.0//EN
CALSCALE:GREGORIAN
METHOD:PUBLISH
X-WR-CALNAME:The Society of the Cincinnati
X-ORIGINAL-URL:https://www.societyofthecincinnati.org
X-WR-CALDESC:Events for The Society of the Cincinnati
BEGIN:VTIMEZONE
TZID:America/New_York
BEGIN:DAYLIGHT
TZOFFSETFROM:-0500
TZOFFSETTO:-0400
TZNAME:EDT
DTSTART:20240310T070000
END:DAYLIGHT
BEGIN:STANDARD
TZOFFSETFROM:-0400
TZOFFSETTO:-0500
TZNAME:EST
DTSTART:20241103T060000
END:STANDARD
END:VTIMEZONE
BEGIN:VEVENT
DTSTART;TZID=America/New_York:20240611T183000
DTEND;TZID=America/New_York:20240611T193000
DTSTAMP:20260425T232645
CREATED:20240424T140021Z
LAST-MODIFIED:20240424T140021Z
UID:5197-1718130600-1718134200@www.societyofthecincinnati.org
SUMMARY:Concert—Music from the Life and Tour of Lafayette
DESCRIPTION:During the marquis de Lafayette’s 1824-1825 farewell tour\, he was celebrated in each city and town with processions\, banquets\, receptions\, worship services and visits to important sites—many of which included music written for the occasion. To commemorate the bicentennial of Lafayette’s return to the United States\, this special concert features David and Ginger Hildebrand of the Colonial Music Institute performing and discussing various musical pieces created during Lafayette's life and especially his farewell tour of America—including some that are part of our collections. \nThis program accompanies our current exhibition\, Fete Lafayette: A French Hero’s Tour of the American Republic\, on view through December 31\, 2024. \nRegistration is requested. No virtual options are available for this program. To attend the concert in-person at Anderson House\, please use the link below. \nRegister to Attend the Concert at Anderson House \nAbout the Performers\nDavid and Ginger Hildebrand specialize in researching\, recording and performing early American music. Since 1980 they have presented concerts and educational programs throughout the country for museums\, public schools and universities. In 1999\, along with dance historians Kate van Winkle and Robert Keller\, they founded the Colonial Music Institute\, which conducts and promotes research and educational outreach in the fields of early American music and dance. Ginger holds an M.M. from the Peabody Conservatory; David’s M.A. is from the George Washington University and his Ph.D. from The Catholic University of America. David consults and lectures widely\, and he teaches American music history at The Peabody Conservatory in Baltimore. His book Musical Maryland: A History of Song and Performance from the Colonial Period to the Age of Radio was published in 2017 by the Johns Hopkins University Press. Ginger teaches privately at Key School and Severn School. She also tours with Ensemble Galilei and Trio Galilei.
URL:https://www.societyofthecincinnati.org/event/concert-music-from-the-life-and-tour-of-lafayette/
LOCATION:Anderson House\, 2118 Massachusetts Ave.\, NW\, Washington\, DC\, 20008\, United States
CATEGORIES:Concerts
ATTACH;FMTTYPE=image/jpeg:https://www.societyofthecincinnati.org/wp-content/uploads/2024/04/Concert-Music-of-Lafayette-scaled.jpg
END:VEVENT
END:VCALENDAR