BEGIN:VCALENDAR
VERSION:2.0
PRODID:-//The Society of the Cincinnati - ECPv5.2.1.1//NONSGML v1.0//EN
CALSCALE:GREGORIAN
METHOD:PUBLISH
X-WR-CALNAME:The Society of the Cincinnati
X-ORIGINAL-URL:https://www.societyofthecincinnati.org
X-WR-CALDESC:Events for The Society of the Cincinnati
BEGIN:VTIMEZONE
TZID:America/New_York
BEGIN:DAYLIGHT
TZOFFSETFROM:-0500
TZOFFSETTO:-0400
TZNAME:EDT
DTSTART:20240310T070000
END:DAYLIGHT
BEGIN:STANDARD
TZOFFSETFROM:-0400
TZOFFSETTO:-0500
TZNAME:EST
DTSTART:20241103T060000
END:STANDARD
END:VTIMEZONE
BEGIN:VEVENT
DTSTART;TZID=America/New_York:20240808T183000
DTEND;TZID=America/New_York:20240808T193000
DTSTAMP:20260420T163725
CREATED:20240424T141629Z
LAST-MODIFIED:20240424T142943Z
UID:5220-1723141800-1723145400@www.societyofthecincinnati.org
SUMMARY:Author’s Talk—This Fierce People: The Untold Story of America’s Revolutionary War in the South
DESCRIPTION:Following the Franco-American alliance of 1778\, the outstretched British forces in North America embarked on a southern campaign to muster Loyalist support and attempt to finally subdue the American rebellion. This new strategy shifted the central theater of operations to the southern states. With a divided population and challenging physical landscapes\, the fighting that occurred in the South resulted in some of the fiercest battles of the war. Weaving throughout the stories of heroic men and women and the battles in which they fought\, historian Alan Pell Crawford discusses his new book on the significance of the American Revolution in the South. \nRegistration is requested. To attend the author’s talk in-person at Anderson House\, or to watch virtually\, please use the appropriate link below. \nRegister to Attend the Author’s Talk at Anderson House \nRegister to Attend the Author’s Talk Virtually \nAbout the Speaker\nAlan Pell Crawford is a historian\, journalist and the author of several acclaimed books. A former U.S. Senate speechwriter\, congressional press secretary and magazine editor\, he has reviewed books on U.S. history\, politics and culture for the Wall Street Journal since 1993. In addition to his books Twilight at Monticello: The Final Years of Thomas Jefferson (Random House\, 2008)\, Unwise Passions: A True Story of a Remarkable Woman and the First Great Scandal of Eighteenth Century America (Simon and Schuster\, 2005) and How Not to Get Rich: The Financial Misadventures of Mark Twain (Mariner Books\, 2014)\, his articles\, essays and reviews have appeared in American History\, The Washington Post\, The New York Times\, the Nation\, National Review\, the Weekly Standard and Vogue. He has also been a resident scholar at George Washington’s Mount Vernon\, the International Center for Jefferson Studies at Monticello and the Boston Athenaeum.
URL:https://www.societyofthecincinnati.org/event/authors-talk-this-fierce-people-the-untold-story-of-americas-revolutionary-war-in-the-south/
LOCATION:Anderson House\, 2118 Massachusetts Ave.\, NW\, Washington\, DC\, 20008\, United States
CATEGORIES:Lectures and Author’s Talks
ATTACH;FMTTYPE=image/png:https://www.societyofthecincinnati.org/wp-content/uploads/2024/04/FPAPC.png
END:VEVENT
END:VCALENDAR