BEGIN:VCALENDAR
VERSION:2.0
PRODID:-//The Society of the Cincinnati - ECPv5.2.1.1//NONSGML v1.0//EN
CALSCALE:GREGORIAN
METHOD:PUBLISH
X-WR-CALNAME:The Society of the Cincinnati
X-ORIGINAL-URL:https://www.societyofthecincinnati.org
X-WR-CALDESC:Events for The Society of the Cincinnati
BEGIN:VTIMEZONE
TZID:America/New_York
BEGIN:DAYLIGHT
TZOFFSETFROM:-0500
TZOFFSETTO:-0400
TZNAME:EDT
DTSTART:20220313T070000
END:DAYLIGHT
BEGIN:STANDARD
TZOFFSETFROM:-0400
TZOFFSETTO:-0500
TZNAME:EST
DTSTART:20221106T060000
END:STANDARD
END:VTIMEZONE
BEGIN:VEVENT
DTSTART;TZID=America/New_York:20221005T183000
DTEND;TZID=America/New_York:20221005T203000
DTSTAMP:20260422T034257
CREATED:20220817T172234Z
LAST-MODIFIED:20220830T125347Z
UID:3888-1664994600-1665001800@www.societyofthecincinnati.org
SUMMARY:Author’s Talk -  North of America: Loyalists\, Indigenous Nations\, and the Borders of the Long American Revolution
DESCRIPTION:At the start of the Revolutionary War\, independence had its limits as patriots were surrounded by indigenous peoples and loyalists throughout the northern regions that straddled the colonial borders\, and these foreign neighbors were far from inactive during the Revolution. Upper Canada\, Lower Canada\, New Brunswick\, Nova Scotia\, Newfoundland and especially the homelands that straddled colonial borders were far less foreign to the men and women who established the United States than Canada is to those who live here now. Jeffers Lennox\, associate professor of history at Wesleyan University\, describes how the participation of the loyal northern British provinces and indigenous nations—that largely rejected the Revolution as antagonists\, opponents or bystanders—frustrated patriot ambitions\, shaped the progress of the conflict and influenced the American nation’s early development. \nThe talk will last approximately 45 minutes\, followed by a book signing. Copies of the book will be available to purchase at the event. \nRegistration is requested. To attend the author’s talk in-person at Anderson House\, or to watch virtually\, please use the appropriate form below. \nCurrently\, all visitors to Anderson House age 2 and older are required to wear a mask while attending a historical program or visiting the museum or library. Read our full COVID safety guidelines here \n\n  \nAbout the Speaker\nJeffers Lennox is an assistant professor of history at Wesleyan University where he teaches courses on early North America\, with a specific focus on the history of interactions between British\, French\, and Indigenous peoples. Before joining the academic staff at Wesleyan University\, Dr. Lennox taught at Dalhousie University and the University of British Columbia. His first book\, Homelands & Empires: Indigenous Spaces\, Imperial Fictions\, and Competition for Territory in Northeastern North America\, 1690-1763 (University of Toronto Press\, 2017) explored how the Wabanaki peoples\, French settlers\, and British colonists used borders\, land use\, and the language of geography to control territory in what is now Nova Scotia\, New Brunswick and Northern Maine and won several awards including the Clio award from the Canadian Historical Association and the John Lyman Book Award from the North American Society for Oceanic History. \n  \nRegister to attend the Author's Talk at Anderson House\n  \nClick here to attend the author's talk virtually
URL:https://www.societyofthecincinnati.org/event/authors-talk-north-of-america-loyalists-indigenous-nations-and-the-borders-of-the-long-american-revolution/
LOCATION:Anderson House\, 2118 Massachusetts Ave.\, NW\, Washington\, DC\, 20008\, United States
CATEGORIES:Lectures and Author’s Talks
ATTACH;FMTTYPE=image/png:https://www.societyofthecincinnati.org/wp-content/uploads/2022/08/Screen-Shot-2022-08-02-at-12.19.36-PM-1.png
END:VEVENT
END:VCALENDAR