BEGIN:VCALENDAR
VERSION:2.0
PRODID:-//The Society of the Cincinnati - ECPv5.2.1.1//NONSGML v1.0//EN
CALSCALE:GREGORIAN
METHOD:PUBLISH
X-WR-CALNAME:The Society of the Cincinnati
X-ORIGINAL-URL:https://www.societyofthecincinnati.org
X-WR-CALDESC:Events for The Society of the Cincinnati
BEGIN:VTIMEZONE
TZID:America/New_York
BEGIN:DAYLIGHT
TZOFFSETFROM:-0500
TZOFFSETTO:-0400
TZNAME:EDT
DTSTART:20230312T070000
END:DAYLIGHT
BEGIN:STANDARD
TZOFFSETFROM:-0400
TZOFFSETTO:-0500
TZNAME:EST
DTSTART:20231105T060000
END:STANDARD
END:VTIMEZONE
BEGIN:VEVENT
DTSTART;TZID=America/New_York:20231101T183000
DTEND;TZID=America/New_York:20231101T203000
DTSTAMP:20260421T063844
CREATED:20230831T140334Z
LAST-MODIFIED:20230831T140334Z
UID:4690-1698863400-1698870600@www.societyofthecincinnati.org
SUMMARY:Author's Talk -  King Hancock: The Radical Influence of a Moderate Founding Father
DESCRIPTION:John Hancock is often associated with the radical commencement of the Revolution and his audacious signature at the bottom of the Declaration of Independence\, but his politics were not nearly as bold as they may have seemed. Throughout the Revolution\, he frustrated both patriots and loyalists alike but remained the most popular and powerful man in Massachusetts through his ability to find middle ground amidst political turmoil. In her new book\, historian Brooke Barbier examines the life and leadership of Hancock\, whose steadying force and compromise proved the basis of profound social and political change. \nRegistration is requested. To attend the author’s talk in-person at Anderson House\, or to watch virtually\, please use the appropriate link below. \nRegister to Attend the Author’s Talk In-Person at Anderson House \nRegister to Attend the Author’s Talk Virtually \n  \nAbout the Speaker\nBrooke Barbier is a public historian with a Ph.D. in American history from Boston College. In addition to King Hancock\, she is the author of Boston in the American Revolution: A Town Versus an Empire (The History Press\, 2017)\, which focuses on pre-revolutionary Boston and its significance during the American Revolution. She is also the founder of Ye Olde Tavern Tours\, a popular guided outing along Boston’s renowned Freedom Trail\, founded in 2013.
URL:https://www.societyofthecincinnati.org/event/authors-talk-king-hancock-the-radical-influence-of-a-moderate-founding-father/
LOCATION:Anderson House\, 2118 Massachusetts Ave.\, NW\, Washington\, DC\, 20008\, United States
CATEGORIES:Lectures and Author’s Talks
ATTACH;FMTTYPE=image/jpeg:https://www.societyofthecincinnati.org/wp-content/uploads/2023/08/bb.jpg
END:VEVENT
END:VCALENDAR