BEGIN:VCALENDAR
VERSION:2.0
PRODID:-//The Society of the Cincinnati - ECPv5.2.1.1//NONSGML v1.0//EN
CALSCALE:GREGORIAN
METHOD:PUBLISH
X-WR-CALNAME:The Society of the Cincinnati
X-ORIGINAL-URL:https://www.societyofthecincinnati.org
X-WR-CALDESC:Events for The Society of the Cincinnati
BEGIN:VTIMEZONE
TZID:America/New_York
BEGIN:DAYLIGHT
TZOFFSETFROM:-0500
TZOFFSETTO:-0400
TZNAME:EDT
DTSTART:20230312T070000
END:DAYLIGHT
BEGIN:STANDARD
TZOFFSETFROM:-0400
TZOFFSETTO:-0500
TZNAME:EST
DTSTART:20231105T060000
END:STANDARD
END:VTIMEZONE
BEGIN:VEVENT
DTSTART;TZID=America/New_York:20231207T183000
DTEND;TZID=America/New_York:20231207T203000
DTSTAMP:20260421T051222
CREATED:20230831T135840Z
LAST-MODIFIED:20230831T135840Z
UID:4678-1701973800-1701981000@www.societyofthecincinnati.org
SUMMARY:Author’s Talk –  God Save Benedict Arnold: The True Story of America’s Most Hated Man
DESCRIPTION:For more than two centuries\, all most Americans have ever known about Benedict Arnold is that he committed treason—yet he was more than a turncoat. He was a superb leader\, a brilliant tactician\, a supremely courageous soldier and one of the most successful military officers of the early years of the Revolutionary War. His capture of Fort Ticonderoga\, his Maine mountain expedition to attack Quebec\, the famous artillery duel at Valcour Island and the turning point at the Battle of Saratoga all laid the groundwork for our independence. Although his new book doesn’t exonerate Arnold for his treason\, historian Jack Kelly forces us to reexamine our understanding of Arnold by offering a fresh new perspective on the events and decisions that led to his momentous change of heart and the permanent stain on his character. \nRegistration is requested. To attend the author’s talk in-person at Anderson House\, or to watch virtually\, please use the appropriate link below. \n  \nRegister to Attend the Author’s Talk In-Person at Anderson House \nRegister to Attend the Author’s Talk Virtually \nAbout the Speaker\nJack Kelly is a public scholar and historian. He is the author of several books on the American Revolution\, including Valcour: The 1776 Campaign That Saved the Cause of Liberty (St. Martin’s Press\, 2021); Band of Giants: The American Soldiers Who Won American Independence (Palgrave MacMillan Trade\, 2016); and Gunpowder: Alchemy\, Bombards\, and Pyrotechnics (Basic Books\, 2009). A New York Foundation for the Arts fellow\, Jack has appeared on NPR\, PBS and The History Channel\, and has written for national publications including the Wall Street Journal and American Heritage.
URL:https://www.societyofthecincinnati.org/event/authors-talk-god-save-benedict-arnold-the-true-story-of-americas-most-hated-man/
LOCATION:Anderson House\, 2118 Massachusetts Ave.\, NW\, Washington\, DC\, 20008\, United States
CATEGORIES:Lectures and Author’s Talks
ATTACH;FMTTYPE=image/jpeg:https://www.societyofthecincinnati.org/wp-content/uploads/2023/08/jk.jpg
END:VEVENT
END:VCALENDAR