BEGIN:VCALENDAR
VERSION:2.0
PRODID:-//The Society of the Cincinnati - ECPv5.2.1.1//NONSGML v1.0//EN
CALSCALE:GREGORIAN
METHOD:PUBLISH
X-WR-CALNAME:The Society of the Cincinnati
X-ORIGINAL-URL:https://www.societyofthecincinnati.org
X-WR-CALDESC:Events for The Society of the Cincinnati
BEGIN:VTIMEZONE
TZID:America/New_York
BEGIN:DAYLIGHT
TZOFFSETFROM:-0500
TZOFFSETTO:-0400
TZNAME:EDT
DTSTART:20240310T070000
END:DAYLIGHT
BEGIN:STANDARD
TZOFFSETFROM:-0400
TZOFFSETTO:-0500
TZNAME:EST
DTSTART:20241103T060000
END:STANDARD
END:VTIMEZONE
BEGIN:VEVENT
DTSTART;TZID=America/New_York:20241112T183000
DTEND;TZID=America/New_York:20241112T193000
DTSTAMP:20260420T091237
CREATED:20240807T163402Z
LAST-MODIFIED:20240807T163402Z
UID:5421-1731436200-1731439800@www.societyofthecincinnati.org
SUMMARY:Author's Talk—From Empire to Revolution: Sir James Wright and the Price of Loyalty in Georgia
DESCRIPTION:James Wright lived a transatlantic life\, taking advantage of every imperial opportunity afforded him. He earned numerous important government posts and amassed an incredible fortune. An England-born grandson of Sir Robert Wright\, James Wright was raised in Charleston\, South Carolina\, following his father’s appointment as the chief justice of that colony. Young James served South Carolina in several capacities\, public and ecclesiastical\, prior to his admittance to London’s famed Gray’s Inn to study law. Most notably\, he was appointed South Carolina’s attorney general and colonial agent to London prior to becoming the governor of Georgia in 1761. \nWright’s long imperial career delicately balanced dual loyalties to Crown and colony and offers new insights into loyalism and the American Revolution. Through this lens\, historian Greg Brooking\, Ph.D.\, discusses his new in-depth biography of Wright\, which explores his life in the context ofimperial and Atlantic history\, Indigenous borderlands\, race and slavery and popular politics. \nRegistration is requested. To attend the author's talk in-person at Anderson House\, or to watch virtually\, please use the appropriate link below. \nRegister to Attend the Author's Talk at Anderson House \nRegister to Attend the Author's Talk Virtually \nAbout the Author\nGreg Brooking is a social studies teacher at North Springs High School who earned his Ph.D. from Georgia State University. He has published articles in the Georgia Historical Quarterly and the Journal of the American Revolution. In 2024\, he was awarded the Society of the Cincinnati of the State of South Carolina Fellowship to conduct research for a forthcoming biography of Henry Laurens\, a leader of the Revolutionary movement from South Carolina who served as president of the Continental Congress and U.S. minister to the Netherlands during the Revolutionary War.
URL:https://www.societyofthecincinnati.org/event/authors-talk-from-empire-to-revolution-sir-james-wright-and-the-price-of-loyalty-in-georgia/
LOCATION:Anderson House\, 2118 Massachusetts Ave.\, NW\, Washington\, DC\, 20008\, United States
CATEGORIES:Lectures and Author’s Talks
ATTACH;FMTTYPE=image/jpeg:https://www.societyofthecincinnati.org/wp-content/uploads/2024/08/brooking-at.jpg
END:VEVENT
END:VCALENDAR