BEGIN:VCALENDAR
VERSION:2.0
PRODID:-//The Society of the Cincinnati - ECPv5.2.1.1//NONSGML v1.0//EN
CALSCALE:GREGORIAN
METHOD:PUBLISH
X-WR-CALNAME:The Society of the Cincinnati
X-ORIGINAL-URL:https://www.societyofthecincinnati.org
X-WR-CALDESC:Events for The Society of the Cincinnati
BEGIN:VTIMEZONE
TZID:America/New_York
BEGIN:DAYLIGHT
TZOFFSETFROM:-0500
TZOFFSETTO:-0400
TZNAME:EDT
DTSTART:20220313T070000
END:DAYLIGHT
BEGIN:STANDARD
TZOFFSETFROM:-0400
TZOFFSETTO:-0500
TZNAME:EST
DTSTART:20221106T060000
END:STANDARD
END:VTIMEZONE
BEGIN:VEVENT
DTSTART;TZID=America/New_York:20220922T183000
DTEND;TZID=America/New_York:20220922T200000
DTSTAMP:20260422T055623
CREATED:20220817T165630Z
LAST-MODIFIED:20220830T125428Z
UID:3871-1663871400-1663876800@www.societyofthecincinnati.org
SUMMARY:Author's Talk -  Dark Voyage: An American Privateer’s War on Britain’s African Slave Trade
DESCRIPTION:Historian Christian McBurney discusses the harrowing voyage of the Marlborough\, an American privateer vessel that sailed across the Atlantic to attack British slave trading posts and ships on the coast of West Africa during the Revolutionary War. His new ground-breaking book is the first to explore the efforts of the Marlborough’s officers and crew\, along with other American privateers that targeted British slave ships\, fostering a better understanding of the Atlantic slave trade during the Revolution and the role American privateers played in diminishing Britain’s slave trading enterprise. \nThe talk will last approximately 45 minutes\, followed by a book signing. Copies of the book will be available to purchase at the event. \nRegistration is requested. To attend the author’s talk in-person at Anderson House\, or to watch virtually\, please use the appropriate form below. \nCurrently\, all visitors to Anderson House age 2 and older are required to wear a mask while attending a historical program or visiting the museum or library. Read our full COVID safety guidelines here. \n  \nAbout the Speaker  \nChristian McBurney is president of the George Washington American Revolution Round Table of the District of Columbia and manages the online journal\, Small State\, Big History\, devoted to the history of Rhode Island. McBurney has authored six books on the American Revolutionary War\, which include George Washington’s Nemesis: The Outrageous Treason and Unfair Court-Martial of Major General Charles Lee during the Revolutionary War (Savas Beatie\, 2020); Kidnapping the Enemy: The Special Operations to Capture Generals Charles Lee and Richard Prescott (Westholme Publishing\, 2013); and The Rhode Island Campaign: The First French and American Operation in the Revolutionary War (Westholme Publishing\, 2011). Additionally\, he is the author of many articles on American Revolution history\, including “The American Revolution Sees the First Efforts to Limit the African Slave Trade\,” published in Journal of the American Revolution\, Annual Volume 2021 (Westholme Publishing\, 2021). \n  \nRegister to attend the Author's Talk at Anderson House\n  \nClick here to attend the author's talk virtually\n 
URL:https://www.societyofthecincinnati.org/event/authors-talk-dark-voyage-an-american-privateers-war-on-britains-african-slave-trade/
LOCATION:Anderson House\, 2118 Massachusetts Ave.\, NW\, Washington\, DC\, 20008\, United States
CATEGORIES:Lectures and Author’s Talks
ATTACH;FMTTYPE=image/png:https://www.societyofthecincinnati.org/wp-content/uploads/2022/08/Screen-Shot-2022-08-02-at-12.36.02-PM.png
END:VEVENT
END:VCALENDAR